BEGIN:VCALENDAR
VERSION:2.0
PRODID:-//California Sign Association - ECPv6.15.20//NONSGML v1.0//EN
CALSCALE:GREGORIAN
METHOD:PUBLISH
X-ORIGINAL-URL:https://calsign.org
X-WR-CALDESC:Events for California Sign Association
REFRESH-INTERVAL;VALUE=DURATION:PT1H
X-Robots-Tag:noindex
X-PUBLISHED-TTL:PT1H
BEGIN:VTIMEZONE
TZID:America/Los_Angeles
BEGIN:DAYLIGHT
TZOFFSETFROM:-0800
TZOFFSETTO:-0700
TZNAME:PDT
DTSTART:20250309T100000
END:DAYLIGHT
BEGIN:STANDARD
TZOFFSETFROM:-0700
TZOFFSETTO:-0800
TZNAME:PST
DTSTART:20251102T090000
END:STANDARD
BEGIN:DAYLIGHT
TZOFFSETFROM:-0800
TZOFFSETTO:-0700
TZNAME:PDT
DTSTART:20260308T100000
END:DAYLIGHT
BEGIN:STANDARD
TZOFFSETFROM:-0700
TZOFFSETTO:-0800
TZNAME:PST
DTSTART:20261101T090000
END:STANDARD
BEGIN:DAYLIGHT
TZOFFSETFROM:-0800
TZOFFSETTO:-0700
TZNAME:PDT
DTSTART:20270314T100000
END:DAYLIGHT
BEGIN:STANDARD
TZOFFSETFROM:-0700
TZOFFSETTO:-0800
TZNAME:PST
DTSTART:20271107T090000
END:STANDARD
END:VTIMEZONE
BEGIN:VEVENT
DTSTART;TZID=America/Los_Angeles:20260416T160000
DTEND;TZID=America/Los_Angeles:20260416T180000
DTSTAMP:20260422T162014
CREATED:20260311T203945Z
LAST-MODIFIED:20260326T060153Z
UID:12238-1776355200-1776362400@calsign.org
SUMMARY:CSA BOD Mtg. + Networking + Topgolf - Ontario
DESCRIPTION:Registration & Sponsorships Now Available! \nTopgolf-Ontario\, a five-minute jaunt from the Ontario International Airport\, will host CSA’s April – 2026 event\, \n \nwhere attendees will create unforgettable experiences with colleagues and friends! For those who would like to give Topgolf a try\, CSA will have private\, climate-controlled playing “bays”\, featuring fun and golf games for all! We look forward to seeing you there! \nSpectators are Welcome! It’s a fun\, inclusive environment where you can watch\, eat\, drink\, and socialize without needing golf skills. \nClick HERE for Registration and Sponsorship Options!\nClick HERE for fill-able PDF Registration Form! \nAnd for those of you who would like a little “Topgolf Challenge” contact Dan Carranza for more information: (909) 821-8707.
URL:https://calsign.org/event/csa-bod-mtg-networking-topgolf-april-2026/
LOCATION:Private: Topgolf – Ontario\, 1050 N Archibald Ave.\, Ontario\, CA\, 91764\, United States
CATEGORIES:Meetings,Networking
ATTACH;FMTTYPE=image/jpeg:https://calsign.org/wp-content/uploads/2026/03/TG-Ontario-1000.jpg
END:VEVENT
END:VCALENDAR