BEGIN:VCALENDAR
VERSION:2.0
PRODID:-//California Sign Association - ECPv6.15.20//NONSGML v1.0//EN
CALSCALE:GREGORIAN
METHOD:PUBLISH
X-ORIGINAL-URL:https://calsign.org
X-WR-CALDESC:Events for California Sign Association
REFRESH-INTERVAL;VALUE=DURATION:PT1H
X-Robots-Tag:noindex
X-PUBLISHED-TTL:PT1H
BEGIN:VTIMEZONE
TZID:America/Los_Angeles
BEGIN:DAYLIGHT
TZOFFSETFROM:-0800
TZOFFSETTO:-0700
TZNAME:PDT
DTSTART:20250309T100000
END:DAYLIGHT
BEGIN:STANDARD
TZOFFSETFROM:-0700
TZOFFSETTO:-0800
TZNAME:PST
DTSTART:20251102T090000
END:STANDARD
BEGIN:DAYLIGHT
TZOFFSETFROM:-0800
TZOFFSETTO:-0700
TZNAME:PDT
DTSTART:20260308T100000
END:DAYLIGHT
BEGIN:STANDARD
TZOFFSETFROM:-0700
TZOFFSETTO:-0800
TZNAME:PST
DTSTART:20261101T090000
END:STANDARD
BEGIN:DAYLIGHT
TZOFFSETFROM:-0800
TZOFFSETTO:-0700
TZNAME:PDT
DTSTART:20270314T100000
END:DAYLIGHT
BEGIN:STANDARD
TZOFFSETFROM:-0700
TZOFFSETTO:-0800
TZNAME:PST
DTSTART:20271107T090000
END:STANDARD
END:VTIMEZONE
BEGIN:VEVENT
DTSTART;TZID=America/Los_Angeles:20260801T050000
DTEND;TZID=America/Los_Angeles:20260801T170000
DTSTAMP:20260423T035615
CREATED:20240306T022935Z
LAST-MODIFIED:20260326T062346Z
UID:10066-1785560400-1785603600@calsign.org
SUMMARY:The Great Fishing Trip - August 1\, 2026
DESCRIPTION:Back for the 24th voyage off the coast of Dana Point! This is an all-day cruise launching at 5:00 am (please check-in by 4:30 am) out of Dana Point Harbor and returning around 5:00 pm that afternoon. \nDana Wharf Sportfishing & Whale Watching\n34675 Golden Lantern\nDana Point\, CA 92629\n \nReel in the fun off the coast of Dana Point!\n• A full-day fishing boat has been chartered for Saturday\, August 1\, 2026.\n• Limited reservations accepted – although the boat holds 60\, we limit the number to 45.\n• Registration is open\, reserve now! Our fishing trip has sold out by early June in recent years.\n• Payment is required to hold reservations. Your registration is not complete until payment is received.\n• Registration form and payment are due by Friday\, July 10\, 2026. (after this date\, no refunds will be given for cancellations.)\n• Cost: $138 per person (license\, equipment\, food\, drink or fish cleaning are NOT included in this fee). \n*Additional fishing details and information (parking instructions\, licensing\, equipment\, food\, etc) to follow at a later date via email notification. Please make sure to have at least one email address listed for your party in order to be included in our follow-up notices. \nClick HERE for Registration and Sponsorship Options!\nClick HERE for fill-able PDF Registration Form! \nInterested in Sponsorships? Contact Cheryl Flahive at 916-932-0021 or e-mail cflahive@calsign.org
URL:https://calsign.org/event/the-great-fishing-trip-aug/
LOCATION:Dana Point Harbor\, 34675 Golden Lantern\, Dana Point\, CA\, 92629\, United States
CATEGORIES:Excursions,Fishing Trip
ATTACH;FMTTYPE=image/jpeg:https://calsign.org/wp-content/uploads/2014/07/fishing-736x306.jpg
END:VEVENT
END:VCALENDAR