BEGIN:VCALENDAR
VERSION:2.0
PRODID:-//California Sign Association - ECPv6.15.20//NONSGML v1.0//EN
CALSCALE:GREGORIAN
METHOD:PUBLISH
X-ORIGINAL-URL:https://calsign.org
X-WR-CALDESC:Events for California Sign Association
REFRESH-INTERVAL;VALUE=DURATION:PT1H
X-Robots-Tag:noindex
X-PUBLISHED-TTL:PT1H
BEGIN:VTIMEZONE
TZID:America/Los_Angeles
BEGIN:DAYLIGHT
TZOFFSETFROM:-0800
TZOFFSETTO:-0700
TZNAME:PDT
DTSTART:20240310T100000
END:DAYLIGHT
BEGIN:STANDARD
TZOFFSETFROM:-0700
TZOFFSETTO:-0800
TZNAME:PST
DTSTART:20241103T090000
END:STANDARD
BEGIN:DAYLIGHT
TZOFFSETFROM:-0800
TZOFFSETTO:-0700
TZNAME:PDT
DTSTART:20250309T100000
END:DAYLIGHT
BEGIN:STANDARD
TZOFFSETFROM:-0700
TZOFFSETTO:-0800
TZNAME:PST
DTSTART:20251102T090000
END:STANDARD
BEGIN:DAYLIGHT
TZOFFSETFROM:-0800
TZOFFSETTO:-0700
TZNAME:PDT
DTSTART:20260308T100000
END:DAYLIGHT
BEGIN:STANDARD
TZOFFSETFROM:-0700
TZOFFSETTO:-0800
TZNAME:PST
DTSTART:20261101T090000
END:STANDARD
BEGIN:DAYLIGHT
TZOFFSETFROM:-0800
TZOFFSETTO:-0700
TZNAME:PDT
DTSTART:20270314T100000
END:DAYLIGHT
BEGIN:STANDARD
TZOFFSETFROM:-0700
TZOFFSETTO:-0800
TZNAME:PST
DTSTART:20271107T090000
END:STANDARD
END:VTIMEZONE
BEGIN:VEVENT
DTSTART;TZID=America/Los_Angeles:20260122T160000
DTEND;TZID=America/Los_Angeles:20260122T180000
DTSTAMP:20260424T163047
CREATED:20260108T032957Z
LAST-MODIFIED:20260311T210536Z
UID:11951-1769097600-1769104800@calsign.org
SUMMARY:CSA BOD Mtg. + Networking + Topgolf - Roseville
DESCRIPTION:CSA BOD Mtg. / Network / Topgolf\nThursday\, January 22nd\nTopgolf Event:  4:00pm – 6:00pm \n \nLocation: Topgolf-Roseville\n1700 Freedom Way\nRoseville\, CA 95678 \nPLAYERS & SPECTATORS:\nTopgolf – Roseville\, a five-minute jaunt from the Thunder Valley Casino Resort\, will host CSA’s January – 2026 event\, where attendees will create unforgettable experiences with colleagues and friends! For those who would like to give Topgolf a try\, CSA will have private\, climate-controlled playing “bays”\, featuring fun and golf games for all! We look forward to seeing you there! \nSpectators are Welcome – It’s a fun\, inclusive environment where you can watch\, eat\, drink\, and socialize without needing golf skills. \nClick HERE for Registration and Sponsorship Options!\nClick HERE for fill-able PDF Registration Form!
URL:https://calsign.org/event/csa-bod-mtg-networking-topgolf/
LOCATION:Topgolf – Roseville\, 1700 Freedom Way\, Roseville\, CA\, 95678
CATEGORIES:Association Event,Meetings,Networking
ATTACH;FMTTYPE=image/png:https://calsign.org/wp-content/uploads/2026/01/Topgolf-Roseville.png
END:VEVENT
BEGIN:VEVENT
DTSTART;TZID=America/Los_Angeles:20251114T110000
DTEND;TZID=America/Los_Angeles:20251114T160000
DTSTAMP:20260424T163047
CREATED:20251006T035214Z
LAST-MODIFIED:20251023T171157Z
UID:11717-1763118000-1763136000@calsign.org
SUMMARY:2025 SoCal Horse Race Event in Del Mar!
DESCRIPTION:Join us as Thoroughbred athletes and world class jockeys take to the track for the most exciting 2 minutes in sports!  \nDel Mar Race Tracks\, Where CSA Comes to Play! Join sign industry professionals\, both members and non-members\, for an event to highlight camaraderie and networking! Marvel as the Thoroughbreds dance on “toes” as they are led from the paddock to the track. Watch as the trainers saddle and prepare for the race. Listen as the bugler sounds the call to post. Before you know it\, the caller is heard from every corner of the park “racing” and the horses are off dashing for the finish line. \nThe horses thunder down the stretch towards the finish line – CSA Members can’t help but stand up screaming encouragement. As the horses reach the wire\, we erupt into victory hugs and high-fives all around. All part of the amazing fun! \nDel Mar racetrack is an American Thoroughbred horse racing track at the Del Mar Fairgrounds in the seaside city of Del Mar\, California\, 20 mi north of San Diego. Meet us there! 2260 Jimmy Durante Boulevard\, Del Mar\, CA 92014 \nSCHEDULE: (REGISTRATION NOW OPEN!) \nNo Host Cocktails: 11:00am-12:00 Noon\nLunch Buffet – Opens: 11:30am\nLunch-Network-Races: Until 4:00pm\nPackage Includes: Entrance\, Program and Lunch\nIndividual Registration – REGISTER TODAY! \nSpend the afternoon in the Ancient Title\, a private\, air-conditioned\, skyroom overlooking the finish line.\nTo help enjoy thoroughbred racing at its finest\, our luxurious skyroom features a fantastic view of the races\,\nprivate wagering windows\, a balcony\, cocktail bar\, and a delicious catered buffet. \n\nSPONSORSHIP OPPORTUNITIES AVAILABLE BY CLICKING HERE or CALL CHERYL TO SPONSOR: 916-932-0021\n \n\n  \nWIN – $1600 (up to 14 people) \n• Entrance to Turf Club for up to fourteen people \n• Buffet Lunch \n• Reserved Tables (assigned on a 1st come basis) \n• Name and logo on all promotional and on-site material*  \n• Verbal acknowledgement at lunch/dinner events and Banquet  \n• Name and logo in Signage Matters thank you ad \n• Name and logo on CSA Website thank you ad \n• Top level placement on event banners/signs  \n  \nPLACE – $1300 (up to 10 people) \n• Entrance to Turf Club for up to ten people \n• Buffet Lunch \n• Reserved Tables (assigned on a 1st come basis) \n• Name and logo on all promotional and on-site material*  \n• Verbal acknowledgement at lunch/dinner events and Banquet  \n• Name and logo in Signage Matters thank you ad \n• Name and logo on CSA Website thank you ad \n• Second level placement on event banners/signs  \n  \nSHOW – $1000 (up to 6 people) \n• Entrance to Turf Club for up to six people \n• Buffet Lunch \n• Reserved Tables (assigned on a 1st come basis) \n• Name and logo on all promotional and on-site material*  \n• Verbal acknowledgement at lunch/dinner events and Banquet  \n• Name and logo in Signage Matters thank you ad \n• Name and logo on CSA Website thank you ad \n• Third level placement on event banners/signs  \n  \nFOURTH – $500 (up to 2 people) \n• Entrance to Turf Club for up to two people \n• Buffet Lunch \n• Reserved Tables (assigned on a 1st come basis) \n• Name and logo on all promotional and on-site material*  \n• Verbal acknowledgement at lunch/dinner events and Banquet  \n• Name and logo in Signage Matters thank you ad \n• Name and logo on CSA Website thank you ad \n• Fourth level placement on event banners/signs
URL:https://calsign.org/event/socal-membership-event-in-del-mar-2025/
LOCATION:Del Mar Race Track\, 2260 Jimmy Durante Boulevard\, Del Mar\, CA\, 92014\, United States
CATEGORIES:Association Event,Del Mar Horse Race,Excursions
ATTACH;FMTTYPE=image/jpeg:https://calsign.org/wp-content/uploads/2025/10/CSA-Races-Glasses-111425.jpg
END:VEVENT
END:VCALENDAR