BEGIN:VCALENDAR
VERSION:2.0
PRODID:-//California Sign Association - ECPv6.15.20//NONSGML v1.0//EN
CALSCALE:GREGORIAN
METHOD:PUBLISH
X-ORIGINAL-URL:https://calsign.org
X-WR-CALDESC:Events for California Sign Association
REFRESH-INTERVAL;VALUE=DURATION:PT1H
X-Robots-Tag:noindex
X-PUBLISHED-TTL:PT1H
BEGIN:VTIMEZONE
TZID:America/Los_Angeles
BEGIN:DAYLIGHT
TZOFFSETFROM:-0800
TZOFFSETTO:-0700
TZNAME:PDT
DTSTART:20210314T100000
END:DAYLIGHT
BEGIN:STANDARD
TZOFFSETFROM:-0700
TZOFFSETTO:-0800
TZNAME:PST
DTSTART:20211107T090000
END:STANDARD
BEGIN:DAYLIGHT
TZOFFSETFROM:-0800
TZOFFSETTO:-0700
TZNAME:PDT
DTSTART:20220313T100000
END:DAYLIGHT
BEGIN:STANDARD
TZOFFSETFROM:-0700
TZOFFSETTO:-0800
TZNAME:PST
DTSTART:20221106T090000
END:STANDARD
BEGIN:DAYLIGHT
TZOFFSETFROM:-0800
TZOFFSETTO:-0700
TZNAME:PDT
DTSTART:20230312T100000
END:DAYLIGHT
BEGIN:STANDARD
TZOFFSETFROM:-0700
TZOFFSETTO:-0800
TZNAME:PST
DTSTART:20231105T090000
END:STANDARD
BEGIN:DAYLIGHT
TZOFFSETFROM:-0800
TZOFFSETTO:-0700
TZNAME:PDT
DTSTART:20240310T100000
END:DAYLIGHT
BEGIN:STANDARD
TZOFFSETFROM:-0700
TZOFFSETTO:-0800
TZNAME:PST
DTSTART:20241103T090000
END:STANDARD
BEGIN:DAYLIGHT
TZOFFSETFROM:-0800
TZOFFSETTO:-0700
TZNAME:PDT
DTSTART:20250309T100000
END:DAYLIGHT
BEGIN:STANDARD
TZOFFSETFROM:-0700
TZOFFSETTO:-0800
TZNAME:PST
DTSTART:20251102T090000
END:STANDARD
BEGIN:DAYLIGHT
TZOFFSETFROM:-0800
TZOFFSETTO:-0700
TZNAME:PDT
DTSTART:20260308T100000
END:DAYLIGHT
BEGIN:STANDARD
TZOFFSETFROM:-0700
TZOFFSETTO:-0800
TZNAME:PST
DTSTART:20261101T090000
END:STANDARD
END:VTIMEZONE
BEGIN:VEVENT
DTSTART;TZID=America/Los_Angeles:20251114T110000
DTEND;TZID=America/Los_Angeles:20251114T160000
DTSTAMP:20260424T163507
CREATED:20251006T035214Z
LAST-MODIFIED:20251023T171157Z
UID:11717-1763118000-1763136000@calsign.org
SUMMARY:2025 SoCal Horse Race Event in Del Mar!
DESCRIPTION:Join us as Thoroughbred athletes and world class jockeys take to the track for the most exciting 2 minutes in sports!  \nDel Mar Race Tracks\, Where CSA Comes to Play! Join sign industry professionals\, both members and non-members\, for an event to highlight camaraderie and networking! Marvel as the Thoroughbreds dance on “toes” as they are led from the paddock to the track. Watch as the trainers saddle and prepare for the race. Listen as the bugler sounds the call to post. Before you know it\, the caller is heard from every corner of the park “racing” and the horses are off dashing for the finish line. \nThe horses thunder down the stretch towards the finish line – CSA Members can’t help but stand up screaming encouragement. As the horses reach the wire\, we erupt into victory hugs and high-fives all around. All part of the amazing fun! \nDel Mar racetrack is an American Thoroughbred horse racing track at the Del Mar Fairgrounds in the seaside city of Del Mar\, California\, 20 mi north of San Diego. Meet us there! 2260 Jimmy Durante Boulevard\, Del Mar\, CA 92014 \nSCHEDULE: (REGISTRATION NOW OPEN!) \nNo Host Cocktails: 11:00am-12:00 Noon\nLunch Buffet – Opens: 11:30am\nLunch-Network-Races: Until 4:00pm\nPackage Includes: Entrance\, Program and Lunch\nIndividual Registration – REGISTER TODAY! \nSpend the afternoon in the Ancient Title\, a private\, air-conditioned\, skyroom overlooking the finish line.\nTo help enjoy thoroughbred racing at its finest\, our luxurious skyroom features a fantastic view of the races\,\nprivate wagering windows\, a balcony\, cocktail bar\, and a delicious catered buffet. \n\nSPONSORSHIP OPPORTUNITIES AVAILABLE BY CLICKING HERE or CALL CHERYL TO SPONSOR: 916-932-0021\n \n\n  \nWIN – $1600 (up to 14 people) \n• Entrance to Turf Club for up to fourteen people \n• Buffet Lunch \n• Reserved Tables (assigned on a 1st come basis) \n• Name and logo on all promotional and on-site material*  \n• Verbal acknowledgement at lunch/dinner events and Banquet  \n• Name and logo in Signage Matters thank you ad \n• Name and logo on CSA Website thank you ad \n• Top level placement on event banners/signs  \n  \nPLACE – $1300 (up to 10 people) \n• Entrance to Turf Club for up to ten people \n• Buffet Lunch \n• Reserved Tables (assigned on a 1st come basis) \n• Name and logo on all promotional and on-site material*  \n• Verbal acknowledgement at lunch/dinner events and Banquet  \n• Name and logo in Signage Matters thank you ad \n• Name and logo on CSA Website thank you ad \n• Second level placement on event banners/signs  \n  \nSHOW – $1000 (up to 6 people) \n• Entrance to Turf Club for up to six people \n• Buffet Lunch \n• Reserved Tables (assigned on a 1st come basis) \n• Name and logo on all promotional and on-site material*  \n• Verbal acknowledgement at lunch/dinner events and Banquet  \n• Name and logo in Signage Matters thank you ad \n• Name and logo on CSA Website thank you ad \n• Third level placement on event banners/signs  \n  \nFOURTH – $500 (up to 2 people) \n• Entrance to Turf Club for up to two people \n• Buffet Lunch \n• Reserved Tables (assigned on a 1st come basis) \n• Name and logo on all promotional and on-site material*  \n• Verbal acknowledgement at lunch/dinner events and Banquet  \n• Name and logo in Signage Matters thank you ad \n• Name and logo on CSA Website thank you ad \n• Fourth level placement on event banners/signs
URL:https://calsign.org/event/socal-membership-event-in-del-mar-2025/
LOCATION:Del Mar Race Track\, 2260 Jimmy Durante Boulevard\, Del Mar\, CA\, 92014\, United States
CATEGORIES:Association Event,Del Mar Horse Race,Excursions
ATTACH;FMTTYPE=image/jpeg:https://calsign.org/wp-content/uploads/2025/10/CSA-Races-Glasses-111425.jpg
END:VEVENT
BEGIN:VEVENT
DTSTART;TZID=America/Los_Angeles:20241115T110000
DTEND;TZID=America/Los_Angeles:20241115T160000
DTSTAMP:20260424T163507
CREATED:20240925T165235Z
LAST-MODIFIED:20241008T010431Z
UID:10579-1731668400-1731686400@calsign.org
SUMMARY:SoCal Horse Race Event in Del Mar 2024!
DESCRIPTION:Networking & Fun at the Races!\n\n\nJoin us as Thoroughbred athletes and world class jockeys take to the track for the most exciting 2 minutes in sports!  \nDel Mar Race Tracks\, Where CSA Comes to Play! Join sign industry professionals\, both members and non-members\, for an event to highlight camaraderie and networking! Marvel as the Thoroughbreds dance on “toes” as they are led from the paddock to the track. Watch as the trainers saddle and prepare for the race. Listen as the bugler sounds the call to post. Before you know it\, the caller is heard from every corner of the park “racing” and the horses are off dashing for the finish line. \nThe horses thunder down the stretch towards the finish line – CSA Members can’t help but stand up screaming encouragement. As the horses reach the wire\, we erupt into victory hugs and high-fives all around. All part of the amazing fun! \nDel Mar racetrack is an American Thoroughbred horse racing track at the Del Mar Fairgrounds in the seaside city of Del Mar\, California\, 20 mi north of San Diego. Meet us there! 2260 Jimmy Durante Boulevard\, Del Mar\, CA 92014 \nSCHEDULE (Registration NOW OPEN!)): \nNo Host Cocktails: 11:00am-12:00 Noon\nLunch Buffet – Opens: 11:30am\nLunch-Network-Races: Until 4:00pm\nPackage Includes: Entrance\, Program and Lunch – (Individual Registration- Register Today!)\nSponsorship Opportunities Available! or CALL TO SPONSOR: 916-932-0021 \nSPONSORSHIPS – Read More Below Sponsor Today!.\n \n\n  \nWIN – $1600 (16 people) \n• Entrance to Turf Club for sixteen people \n• Buffet Lunch \n• Reserved Tables (assigned on a 1st come basis) \n• Name and logo on all promotional and on-site material*  \n• Verbal acknowledgement at lunch/dinner events and Banquet  \n• Name and logo in Signage Matters thank you ad \n• Name and logo on CSA Website thank you ad \n• Top level placement on event banners/signs  \n  \nPLACE – $1300 (12 people) \n• Entrance to Turf Club for twelve people \n• Buffet Lunch \n• Reserved Tables (assigned on a 1st come basis) \n• Name and logo on all promotional and on-site material*  \n• Verbal acknowledgement at lunch/dinner events and Banquet  \n• Name and logo in Signage Matters thank you ad \n• Name and logo on CSA Website thank you ad \n• Second level placement on event banners/signs  \n  \nSHOW – $1000 (8 people) \n• Entrance to Turf Club for eight people \n• Buffet Lunch \n• Reserved Tables (assigned on a 1st come basis) \n• Name and logo on all promotional and on-site material*  \n• Verbal acknowledgement at lunch/dinner events and Banquet  \n• Name and logo in Signage Matters thank you ad \n• Name and logo on CSA Website thank you ad \n• Third level placement on event banners/signs  \n  \nFOURTH – $500 (4 people) \n• Entrance to Turf Club for four people \n• Buffet Lunch \n• Reserved Tables (assigned on a 1st come basis) \n• Name and logo on all promotional and on-site material*  \n• Verbal acknowledgement at lunch/dinner events and Banquet  \n• Name and logo in Signage Matters thank you ad \n• Name and logo on CSA Website thank you ad \n• Fourth level placement on event banners/signs \n  \n\n“Great race atmosphere\, nice weather\, an all around great experience.” . – Google\n\n“Great vibe\, good races. The amenities are fantastic.” \n\n\n“Really nice race track with really good food and really good beer. .”
URL:https://calsign.org/event/socal-membership-event-in-del-mar-2024/
LOCATION:Del Mar Race Track\, 2260 Jimmy Durante Boulevard\, Del Mar\, CA\, 92014\, United States
CATEGORIES:Excursions
ATTACH;FMTTYPE=image/png:https://calsign.org/wp-content/uploads/2024/09/GET-IN-ON-THIS-New.png
END:VEVENT
BEGIN:VEVENT
DTSTART;TZID=America/Los_Angeles:20240508T113000
DTEND;TZID=America/Los_Angeles:20240508T170000
DTSTAMP:20260424T163507
CREATED:20240424T200600Z
LAST-MODIFIED:20240528T190824Z
UID:10197-1715167800-1715187600@calsign.org
SUMMARY:May 8th at the Capitol!
DESCRIPTION:Meet Your Representative and Let Your Voice be Heard:\nJoin CSA Directors for lunch and an opportunity to meet Senators and/or Assembly Members\, acquainting our state legislators with who and what the California Sign Association represents. \n \nNetwork & Lunch Meeting:\nThe Old Spaghetti Factory\n1910 J Street\, Sacramento\, CA 95811 \nPreceding the visits\, a CSA Lunch & Learn will include topic review of the discussion points we would like to bring to the table. This is an opportunity to explore the Capitol\, becoming more informed citizens with an appreciation for the democratic process and the life cycle of a bill\, from being an idea to becoming a law. \nTo learn more on attending this event\, contact Cheryl at the CSA office:\n916-932-0021 / cflahive@calsign.org.
URL:https://calsign.org/event/may-8th-at-the-capitol/
LOCATION:The Old Spaghetti Factory – Sacramento\, 1910 J Street\, Sacramento\, CA\, 95811\, United States
CATEGORIES:Excursions,Meetings
ATTACH;FMTTYPE=image/jpeg:https://calsign.org/wp-content/uploads/2018/12/ca-capitol-building-eventsize.jpg
END:VEVENT
BEGIN:VEVENT
DTSTART;TZID=America/Los_Angeles:20231117T110000
DTEND;TZID=America/Los_Angeles:20231117T160000
DTSTAMP:20260424T163507
CREATED:20230926T013141Z
LAST-MODIFIED:20231130T012413Z
UID:9752-1700218800-1700236800@calsign.org
SUMMARY:SoCal Horse Race Event in Del Mar 2023!
DESCRIPTION:Networking & Fun at the Races!\n\n\nJoin us as Thoroughbred athletes and world class jockeys take to the track for the most exciting 2 minutes in sports!  \n Del Mar Race Tracks\, Where CSA Comes to Play! Join sign industry professionals\, both members and non-members\, for an event to highlight camaraderie and networking! Marvel as the Thoroughbreds dance on “toes” as they are led from the paddock to the track. Watch as the trainers saddle and prepare for the race. Listen as the bugler sounds the call to post. Before you know it\, the caller is heard from every corner of the park “racing” and the horses are off dashing for the finish line. \nThe horses thunder down the stretch towards the finish line – CSA Members can’t help but stand up screaming encouragement. As the horses reach the wire\, we erupt into victory hugs and high-fives all around. All part of the amazing fun! \nDel Mar racetrack is an American Thoroughbred horse racing track at the Del Mar Fairgrounds in the seaside city of Del Mar\, California\, 20 mi north of San Diego. Meet us there! 2260 Jimmy Durante Boulevard\, Del Mar\, CA 92014 \nSCHEDULE (Register online or see PDF – Click Here): \nNo Host Cocktails: 11:00am-12:00 Noon\nLunch Buffet – Opens: 11:30am\nLunch-Network-Races: Until 4:00pm\nPackage Includes: Entrance\, Program and Lunch – $79.00 (Individual Registration- Click to Shop)\nClick to Purchase Sponsorship Opportunities Online or CALL TO SPONSOR: 916-932-0021 \nSPONSORSHIPS – Reserve online or Download PDF Here.\n \n  \nWIN – $1600 (16 people) \n• Entrance to Turf Club for sixteen people \n• Buffet Lunch \n• Reserved Tables (assigned on a 1st come basis) \n• Name and logo on all promotional and on-site material*  \n• Verbal acknowledgement at lunch/dinner events and Banquet  \n• Name and logo in Signage Matters thank you ad \n• Name and logo on CSA Website thank you ad \n• Top level placement on event banners/signs  \n  \nPLACE – $1300 (12 people) \n• Entrance to Turf Club for twelve people \n• Buffet Lunch \n• Reserved Tables (assigned on a 1st come basis) \n• Name and logo on all promotional and on-site material*  \n• Verbal acknowledgement at lunch/dinner events and Banquet  \n• Name and logo in Signage Matters thank you ad \n• Name and logo on CSA Website thank you ad \n• Second level placement on event banners/signs  \n  \nSHOW – $1000 (8 people) \n• Entrance to Turf Club for eight people \n• Buffet Lunch \n• Reserved Tables (assigned on a 1st come basis) \n• Name and logo on all promotional and on-site material*  \n• Verbal acknowledgement at lunch/dinner events and Banquet  \n• Name and logo in Signage Matters thank you ad \n• Name and logo on CSA Website thank you ad \n• Third level placement on event banners/signs  \n  \nFOURTH – $500 (4 people) \n• Entrance to Turf Club for four people \n• Buffet Lunch \n• Reserved Tables (assigned on a 1st come basis) \n• Name and logo on all promotional and on-site material*  \n• Verbal acknowledgement at lunch/dinner events and Banquet  \n• Name and logo in Signage Matters thank you ad \n• Name and logo on CSA Website thank you ad \n• Fourth level placement on event banners/signs \n  \n“Great race atmosphere\, nice weather\, an all around great experience.” . – Google\n\n“Great vibe\, good races. The amenities are fantastic.” \n\n\n“Really nice race track with really good food and really good beer. .”
URL:https://calsign.org/event/socal-membership-event-in-del-mar-2023/
LOCATION:Del Mar Race Track\, 2260 Jimmy Durante Boulevard\, Del Mar\, CA\, 92014\, United States
CATEGORIES:Excursions
ATTACH;FMTTYPE=image/jpeg:https://calsign.org/wp-content/uploads/2023/09/Will-We-See-You-There-New.jpg
END:VEVENT
BEGIN:VEVENT
DTSTART;TZID=America/Los_Angeles:20230812T050000
DTEND;TZID=America/Los_Angeles:20230812T170000
DTSTAMP:20260424T163507
CREATED:20230410T165909Z
LAST-MODIFIED:20230906T011709Z
UID:9352-1691816400-1691859600@calsign.org
SUMMARY:The Great Fishing Trip August 12\, 2023!
DESCRIPTION:Back for the 21st voyage off the coast of Dana Point\, Captain Neal Tibbs and 44 lucky fishermen\, women & children will set sail early\, early Saturday\, August 12th! This event sells out every year\, so be sure to MARK YOUR CALENDAR & book early! This is an all-day cruise launching at 5:00 am (please check-in by 4:30 am) out of Dana Point Harbor and returning around 5:00 pm that afternoon. \nWe are almost sold out! Click “PURCHASE” link above today! \nThe boat could hold 60\, but we limit the total number of guests to 45 give everyone plenty of room to stretch out. \nFor more information about the fishing\, call Call Neal Tibbs at (209) 603-0629. For information about registration\, call CSA at (916) 932-0021 or email cflahive@calsign.org. \n\nLicense\, equipment\, food\, drink or fish cleaning is NOT included in your registration fee.\nAdditional fishing details and information (parking instructions\, licensing\, equipment\, food\, etc) to follow at a later date via email notification. Please make sure to have at least one email address listed for your party in order to be included in our follow-up notices.\n\nSaturday\, August 12\, 2023 – Sailing on the Clemente\nCheck-in at 4:30 am\, boat departs at 5:00 am sharp!\nDana Wharf Sportfishing in Dana Point Harbor\n34675 Golden Lantern\, Dana Point\, CA \nReturn approximately 5:00 PM.
URL:https://calsign.org/event/the-great-fishing-trip-aug-12-2023/
LOCATION:Dana Point Harbor\, 34675 Golden Lantern\, Dana Point\, CA\, 92629\, United States
CATEGORIES:Excursions,Fishing Trip
ATTACH;FMTTYPE=image/jpeg:https://calsign.org/wp-content/uploads/2014/07/fishing-736x306.jpg
END:VEVENT
BEGIN:VEVENT
DTSTART;TZID=America/Los_Angeles:20230413T170000
DTEND;TZID=America/Los_Angeles:20230413T200000
DTSTAMP:20260424T163507
CREATED:20230323T003903Z
LAST-MODIFIED:20230906T012116Z
UID:9333-1681405200-1681416000@calsign.org
SUMMARY:WSSC Networking Hospitality Event 2023
DESCRIPTION:Welcome all WSSC Affiliates! CSA Members are invited to join the other WSSC Affiliates for a Networking Mixer! The Western States Sign Council HOSPITALITY EVENT is scheduled at the ISA Expo\, Thursday evening – April 13th. Affiliates invited to this event include; Arizona Sign Association\, California Sign Association\, Colorado Sign Association\, Nevada Sign Association\, Northwest Sign Council\, and Utah Sign Association. \nJoin fellow industry professionals at at hospitality event hosted by Western States Sign Council! This event will run from 5:00 – 8:00 PM in the WSSC Suite at Mandalay Bay. Bring your colleagues and significant others for drinks and hors d’oeuvres! RSVP and Sponsor today! Sponsorships will support the association you choose. Registration is free\, but please register!\nPlatinum Sponsor: $500\nGold Sponsor: $250\nSilver Sponsor: $150
URL:https://calsign.org/event/wssc-networking-hospitality-event-2023/
LOCATION:Mandalay Bay Hotel\, 3950 S Las Vegas Blvd\, Las Vegas\, NV\, 89119\, United States
CATEGORIES:Excursions
ATTACH;FMTTYPE=image/png:https://calsign.org/wp-content/uploads/2023/03/featured-event-hospitality-text-med.png
END:VEVENT
BEGIN:VEVENT
DTSTART;TZID=America/Los_Angeles:20230411T130000
DTEND;TZID=America/Los_Angeles:20230411T170000
DTSTAMP:20260424T163507
CREATED:20230111T025955Z
LAST-MODIFIED:20230906T012230Z
UID:9192-1681218000-1681232400@calsign.org
SUMMARY:WSSC-ISA Golf Tournament
DESCRIPTION:We are excited to announce the WSSC / ISA Golf Tournament in Las Vegas! receding the ISA Sign Expo- Join us for a shotgun start at 1:00 PM on April 11th! Hosted at the Las Vegas Golf Club\, only 7 miles from Mandalay Bay Convention Center! $165 per player includes and lunch\, 2 drinks\, 18 holes of play with a cart\, range balls are included.
URL:https://calsign.org/event/wssc-isa-golf-tournament/
LOCATION:Las Vegas Golf Club\, 4300 West Washington Ave\, Las Vegas\, NV\, 89107\, United States
CATEGORIES:Excursions
ATTACH;FMTTYPE=image/png:https://calsign.org/wp-content/uploads/2023/01/golf-event-featured2023-cropped-1080.png
END:VEVENT
BEGIN:VEVENT
DTSTART;TZID=America/Los_Angeles:20221118T110000
DTEND;TZID=America/Los_Angeles:20221118T160000
DTSTAMP:20260424T163507
CREATED:20221011T163640Z
LAST-MODIFIED:20230906T012727Z
UID:9052-1668769200-1668787200@calsign.org
SUMMARY:SoCal Horse Race Event in Del Mar 2022!
DESCRIPTION:LET’S GO!\n\n\nJoin us as Thoroughbred athletes and world class jockeys take to the track for the most exciting 2 minutes in sports!  Del Mar Race Tracks\, Where CSA Comes to Play! Join sign industry professionals\, both members and non-members\, for an event to highlight camaraderie and networking! Marvel as the Thoroughbreds dance on “toes” as they are led from the paddock to the track. Watch as the trainers saddle and prepare for the race. Listen as the bugler sounds the call to post. Before you know it\, the caller is heard from every corner of the park “racing” and the horses are off dashing for the finish line. \nThe horses thunder down the stretch towards the finish line – CSA Members can’t help but stand up screaming encouragement. As the horses reach the wire\, we erupt into victory hugs and high-fives all around. All part of the amazing fun! \nDel Mar racetrack is an American Thoroughbred horse racing track at the Del Mar Fairgrounds in the seaside city of Del Mar\, California\, 20 mi north of San Diego. Meet us there! 2260 Jimmy Durante Boulevard\, Del Mar\, CA 92014 \nSCHEDULE: \nNo Host Cocktails: 11:00am-12:00 Noon\nLunch Buffet – Opens: 11:30am\nLunch-Network-Races: Until 4:00pm\nPackage Includes: Entrance\, Program and Lunch \nSpend the afternoon in the Ancient Title\, a private\, air-conditioned\, skyroom overlooking the finish line. To help enjoy thoroughbred racing at its finest\, our luxurious skyroom features a fantastic view of the races\, private wagering windows\, a balcony\, cocktail bar\, and a delicious catered buffet! \nJOIN US! Registration is now open – Click Here to Register\nBECOME A SPONSOR – Click for Informational PDF – visit our Shop to Register/ Sponsor! \nSPONSORSHIP LEVELS:\n \n  \nWIN – $1\,600 (16 people) \n• Entrance to Turf Club for sixteen people \n• Buffet Lunch \n• Parking Pass \n• Reserved Tables (assigned on a 1st come basis) \n• Name and logo on all promotional and on-site material*  \n• Verbal acknowledgement at lunch/dinner events and Banquet  \n• Name and logo in Signage Matters thank you ad \n• Name and logo on CSA Website thank you ad \n• Top level placement on event banners/signs  \n  \nPLACE – $1\,300 (12 people) \n• Entrance to Turf Club for twelve people \n• Buffet Lunch \n• Parking Pass \n• Reserved Tables (assigned on a 1st come basis) \n• Name and logo on all promotional and on-site material*  \n• Verbal acknowledgement at lunch/dinner events and Banquet  \n• Name and logo in Signage Matters thank you ad \n• Name and logo on CSA Website thank you ad \n• Second level placement on event banners/signs  \n  \nSHOW – $1\,000 (8 people) \n• Entrance to Turf Club for eight people \n• Buffet Lunch \n• Parking Pass \n• Reserved Tables (assigned on a 1st come basis) \n• Name and logo on all promotional and on-site material*  \n• Verbal acknowledgement at lunch/dinner events and Banquet  \n• Name and logo in Signage Matters thank you ad \n• Name and logo on CSA Website thank you ad \n• Third level placement on event banners/signs  \n  \nFOURTH – $500 (4 people) \n• Entrance to Turf Club for four people \n• Buffet Lunch \n• Parking Pass \n• Reserved Tables (assigned on a 1st come basis) \n• Name and logo on all promotional and on-site material*  \n• Verbal acknowledgement at lunch/dinner events and Banquet  \n• Name and logo in Signage Matters thank you ad \n• Name and logo on CSA Website thank you ad \n• Fourth level placement on event banners/signs \n  \n“Great race atmosphere\, nice weather\, an all around great experience.” . – Google\n\n“Great vibe\, good races. The amenities are fantastic.” \n\n\n“Really nice race track with really good food and really good beer. .”
URL:https://calsign.org/event/socal-membership-event-in-del-mar-2022/
LOCATION:Del Mar Race Track\, 2260 Jimmy Durante Boulevard\, Del Mar\, CA\, 92014\, United States
CATEGORIES:Excursions
ATTACH;FMTTYPE=image/jpeg:https://calsign.org/wp-content/uploads/2015/10/golden-gate-fields-calendar.jpg
END:VEVENT
END:VCALENDAR